BEGIN:VCALENDAR
VERSION:2.0
PRODID:-//ZV Haus und Eigentum Wien - ECPv6.15.17.1//NONSGML v1.0//EN
CALSCALE:GREGORIAN
METHOD:PUBLISH
X-WR-CALNAME:ZV Haus und Eigentum Wien
X-ORIGINAL-URL:https://www.zvhausundeigentum.at
X-WR-CALDESC:Veranstaltungen für ZV Haus und Eigentum Wien
REFRESH-INTERVAL;VALUE=DURATION:PT1H
X-Robots-Tag:noindex
X-PUBLISHED-TTL:PT1H
BEGIN:VTIMEZONE
TZID:Europe/Berlin
BEGIN:DAYLIGHT
TZOFFSETFROM:+0100
TZOFFSETTO:+0200
TZNAME:CEST
DTSTART:20240331T010000
END:DAYLIGHT
BEGIN:STANDARD
TZOFFSETFROM:+0200
TZOFFSETTO:+0100
TZNAME:CET
DTSTART:20241027T010000
END:STANDARD
BEGIN:DAYLIGHT
TZOFFSETFROM:+0100
TZOFFSETTO:+0200
TZNAME:CEST
DTSTART:20250330T010000
END:DAYLIGHT
BEGIN:STANDARD
TZOFFSETFROM:+0200
TZOFFSETTO:+0100
TZNAME:CET
DTSTART:20251026T010000
END:STANDARD
BEGIN:DAYLIGHT
TZOFFSETFROM:+0100
TZOFFSETTO:+0200
TZNAME:CEST
DTSTART:20260329T010000
END:DAYLIGHT
BEGIN:STANDARD
TZOFFSETFROM:+0200
TZOFFSETTO:+0100
TZNAME:CET
DTSTART:20261025T010000
END:STANDARD
BEGIN:DAYLIGHT
TZOFFSETFROM:+0100
TZOFFSETTO:+0200
TZNAME:CEST
DTSTART:20270328T010000
END:DAYLIGHT
BEGIN:STANDARD
TZOFFSETFROM:+0200
TZOFFSETTO:+0100
TZNAME:CET
DTSTART:20271031T010000
END:STANDARD
BEGIN:DAYLIGHT
TZOFFSETFROM:+0100
TZOFFSETTO:+0200
TZNAME:CEST
DTSTART:20280326T010000
END:DAYLIGHT
BEGIN:STANDARD
TZOFFSETFROM:+0200
TZOFFSETTO:+0100
TZNAME:CET
DTSTART:20281029T010000
END:STANDARD
END:VTIMEZONE
BEGIN:VEVENT
DTSTART;VALUE=DATE:20250101
DTEND;VALUE=DATE:20280101
DTSTAMP:20260421T172205
CREATED:20230117T072151Z
LAST-MODIFIED:20251110T083222Z
UID:2979-1735689600-1830297599@www.zvhausundeigentum.at
SUMMARY:Stornobedingungen
DESCRIPTION:Bei Anmeldungen zu unseren kostenpflichtigen Kursen ersuchen wir höflich um Berücksichtigung der folgenden geltenden Stornobedingungen: \n\nBis zum 15. Kalendertag vor Veranstaltungsbeginn ist eine kostenlose Stornierung möglich.\nBei Stornierungen ab dem 14. Kalendertag vor Veranstaltungsbeginn sind 50 % des Kursbeitrages zu zahlen.\nBei Stornierungen am Veranstaltungstag bzw. Nichterscheinen sind 100 % des Veranstaltungsbeitrages fällig.
URL:https://www.zvhausundeigentum.at/veranstaltung/stornobedingungen/
ATTACH;FMTTYPE=image/jpeg:https://www.zvhausundeigentum.at/wp-content/uploads/2020/06/zv-haus-und.-eigentum-leistungen.jpg
END:VEVENT
BEGIN:VEVENT
DTSTART;VALUE=DATE:20260128
DTEND;VALUE=DATE:20261217
DTSTAMP:20260421T172205
CREATED:20221027T114542Z
LAST-MODIFIED:20251128T070813Z
UID:2751-1769558400-1797465599@www.zvhausundeigentum.at
SUMMARY:Kursreihe 2026 - Spezialwissen für die Eigenverwaltung
DESCRIPTION:Die Vortragsreihe „Kurs 2026– Spezialwissen für die Eigenverwaltung“ kann nur als Ganzes gebucht werden. \nEine Buchung beinhaltet die Teilnahme an insgesamt 18 Vorträgen zu einem Gesamtpreis von € 245\,– inkl. 20% USt (dies entspricht etwa € 13 pro Vortrag). \nDas komplette Kursprogramm 2026 dieser Vortragsreihe: finden Sie hier \nDie Teilnehmerzahl ist begrenzt und eine Anmeldung daher unbedingt erforderlich! Die Teilnahme ist nur nach bestätigter Anmeldung und Entrichtung der Kursgebühr möglich. \n 
URL:https://www.zvhausundeigentum.at/veranstaltung/kursreihe-2025-spezialkurs-fuer-eigenverwaltung/
CATEGORIES:Kurs 2026 - Kurs 2025 - Spezialwissen für Eigenverwaltung
ATTACH;FMTTYPE=image/jpeg:https://www.zvhausundeigentum.at/wp-content/uploads/2023/08/Sitzungssaal-leer-scaled.jpg
END:VEVENT
BEGIN:VEVENT
DTSTART;TZID=Europe/Berlin:20260909T180000
DTEND;TZID=Europe/Berlin:20260909T190000
DTSTAMP:20260421T172205
CREATED:20251110T103103Z
LAST-MODIFIED:20251110T103712Z
UID:4026-1788976800-1788980400@www.zvhausundeigentum.at
SUMMARY:Kurs 2026 - Tipps zur Erstellung eines rechtssicheren Mietvertrages
DESCRIPTION:Vortragender: Mag. Roman Reßler\nThema: Tipps zur Erstellung eines rechtssicheren Mietvertrages  \nDie Vortragsreihe „Kurs 2026– Spezialwissen für die Eigenverwaltung“ kann nur als Ganzes gebucht werden. Eine Buchung beinhaltet  die Teilnahme an insgesamt 18 Vorträgen  zu einem Gesamtpreis von € 245\,–inkl. 20% USt (dies entspricht etwa € 13 pro Vortrag).Die Teilnehmerzahl ist begrenzt und eine Anmeldung daher unbedingt erforderlich! Die Teilnahme ist nur nach bestätigter Anmeldung und Entrichtung der Kursgebühr möglich.
URL:https://www.zvhausundeigentum.at/veranstaltung/kurs-2026-tipps-zur-erstellung-eines-rechtssicheren-mietvertrages/
CATEGORIES:Kurs 2026 - Kurs 2025 - Spezialwissen für Eigenverwaltung
ATTACH;FMTTYPE=image/jpeg:https://www.zvhausundeigentum.at/wp-content/uploads/2020/04/zv_haus_eigentum_ressler_roman.jpg
END:VEVENT
BEGIN:VEVENT
DTSTART;TZID=Europe/Berlin:20260922T180000
DTEND;TZID=Europe/Berlin:20260922T190000
DTSTAMP:20260421T172205
CREATED:20251028T122836Z
LAST-MODIFIED:20251218T065503Z
UID:4000-1790100000-1790103600@www.zvhausundeigentum.at
SUMMARY:Infoabend
DESCRIPTION:Ihre Immobilie: Sie fragen\, wir antworten! \nFragen und Antworten rund um Ihre Immobilie sowie aktuelle Themen der Hausverwaltung \nReferent: Helga Brun\nImmobilienverwaltung Helga Brun \nBei unseren Infoabenden gibt es kein vorgegebenes Thema.\nEs werden Fragen rund um Ihre Immobilie beantwortet und aktuelle Themen der Hausverwaltung besprochen. \nDiese Veranstaltung ist kostenlos. \nWir ersuchen um vorherige Anmeldung sowie ehestmögliche Bekanntgabe im Fall einer Verhinderung\, um Personen auf der Warteliste die Möglichkeit einer Teilnahme einzuräumen.  \nAnmeldung im Sekretariat:\noffice@zvhausundeigentum.at oder +43 1 406 33 18\nBegrenzte Teilnehmeranzahl!
URL:https://www.zvhausundeigentum.at/veranstaltung/infoabend-11/
ATTACH;FMTTYPE=image/jpeg:https://www.zvhausundeigentum.at/wp-content/uploads/2022/10/Helga-Brun_2-e1674053316492.jpg
END:VEVENT
BEGIN:VEVENT
DTSTART;TZID=Europe/Berlin:20260930T180000
DTEND;TZID=Europe/Berlin:20260930T190000
DTSTAMP:20260421T172205
CREATED:20251110T110825Z
LAST-MODIFIED:20251110T110825Z
UID:4041-1790791200-1790794800@www.zvhausundeigentum.at
SUMMARY:Kurs 2026 - Schenkung\, Vorsorgevollmacht & Patientenverfügung
DESCRIPTION:Vortragender: Notar Mag. Pfannl\nThema: Schenkung\, Vorsorgevollmacht & Patientenverfügung  \nDie Vortragsreihe „Kurs 2026– Spezialwissen für die Eigenverwaltung“ kann nur als Ganzes gebucht werden. Eine Buchung beinhaltet  die Teilnahme an insgesamt 18 Vorträgen  zu einem Gesamtpreis von € 245\,–inkl. 20% USt (dies entspricht etwa € 13 pro Vortrag).\nDie Teilnehmerzahl ist begrenzt und eine Anmeldung daher unbedingt erforderlich! Die Teilnahme ist nur nach bestätigter Anmeldung und Entrichtung der Kursgebühr möglich
URL:https://www.zvhausundeigentum.at/veranstaltung/kurs-2026-schenkung-vorsorgevollmacht-patientenverfuegung/
CATEGORIES:Kurs 2026 - Kurs 2025 - Spezialwissen für Eigenverwaltung
ATTACH;FMTTYPE=image/jpeg:https://www.zvhausundeigentum.at/wp-content/uploads/2020/05/zv-haus-und-eigentum-steuerberatung.jpg
END:VEVENT
END:VCALENDAR