BEGIN:VCALENDAR
VERSION:2.0
PRODID:-//ZV Haus und Eigentum Wien - ECPv6.15.17.1//NONSGML v1.0//EN
CALSCALE:GREGORIAN
METHOD:PUBLISH
X-WR-CALNAME:ZV Haus und Eigentum Wien
X-ORIGINAL-URL:https://www.zvhausundeigentum.at
X-WR-CALDESC:Veranstaltungen für ZV Haus und Eigentum Wien
REFRESH-INTERVAL;VALUE=DURATION:PT1H
X-Robots-Tag:noindex
X-PUBLISHED-TTL:PT1H
BEGIN:VTIMEZONE
TZID:Europe/Berlin
BEGIN:DAYLIGHT
TZOFFSETFROM:+0100
TZOFFSETTO:+0200
TZNAME:CEST
DTSTART:20240331T010000
END:DAYLIGHT
BEGIN:STANDARD
TZOFFSETFROM:+0200
TZOFFSETTO:+0100
TZNAME:CET
DTSTART:20241027T010000
END:STANDARD
BEGIN:DAYLIGHT
TZOFFSETFROM:+0100
TZOFFSETTO:+0200
TZNAME:CEST
DTSTART:20250330T010000
END:DAYLIGHT
BEGIN:STANDARD
TZOFFSETFROM:+0200
TZOFFSETTO:+0100
TZNAME:CET
DTSTART:20251026T010000
END:STANDARD
BEGIN:DAYLIGHT
TZOFFSETFROM:+0100
TZOFFSETTO:+0200
TZNAME:CEST
DTSTART:20260329T010000
END:DAYLIGHT
BEGIN:STANDARD
TZOFFSETFROM:+0200
TZOFFSETTO:+0100
TZNAME:CET
DTSTART:20261025T010000
END:STANDARD
BEGIN:DAYLIGHT
TZOFFSETFROM:+0100
TZOFFSETTO:+0200
TZNAME:CEST
DTSTART:20270328T010000
END:DAYLIGHT
BEGIN:STANDARD
TZOFFSETFROM:+0200
TZOFFSETTO:+0100
TZNAME:CET
DTSTART:20271031T010000
END:STANDARD
BEGIN:DAYLIGHT
TZOFFSETFROM:+0100
TZOFFSETTO:+0200
TZNAME:CEST
DTSTART:20280326T010000
END:DAYLIGHT
BEGIN:STANDARD
TZOFFSETFROM:+0200
TZOFFSETTO:+0100
TZNAME:CET
DTSTART:20281029T010000
END:STANDARD
END:VTIMEZONE
BEGIN:VEVENT
DTSTART;VALUE=DATE:20250101
DTEND;VALUE=DATE:20280101
DTSTAMP:20260421T121702
CREATED:20230117T072151Z
LAST-MODIFIED:20251110T083222Z
UID:2979-1735689600-1830297599@www.zvhausundeigentum.at
SUMMARY:Stornobedingungen
DESCRIPTION:Bei Anmeldungen zu unseren kostenpflichtigen Kursen ersuchen wir höflich um Berücksichtigung der folgenden geltenden Stornobedingungen: \n\nBis zum 15. Kalendertag vor Veranstaltungsbeginn ist eine kostenlose Stornierung möglich.\nBei Stornierungen ab dem 14. Kalendertag vor Veranstaltungsbeginn sind 50 % des Kursbeitrages zu zahlen.\nBei Stornierungen am Veranstaltungstag bzw. Nichterscheinen sind 100 % des Veranstaltungsbeitrages fällig.
URL:https://www.zvhausundeigentum.at/veranstaltung/stornobedingungen/
ATTACH;FMTTYPE=image/jpeg:https://www.zvhausundeigentum.at/wp-content/uploads/2020/06/zv-haus-und.-eigentum-leistungen.jpg
END:VEVENT
BEGIN:VEVENT
DTSTART;VALUE=DATE:20260128
DTEND;VALUE=DATE:20261217
DTSTAMP:20260421T121702
CREATED:20221027T114542Z
LAST-MODIFIED:20251128T070813Z
UID:2751-1769558400-1797465599@www.zvhausundeigentum.at
SUMMARY:Kursreihe 2026 - Spezialwissen für die Eigenverwaltung
DESCRIPTION:Die Vortragsreihe „Kurs 2026– Spezialwissen für die Eigenverwaltung“ kann nur als Ganzes gebucht werden. \nEine Buchung beinhaltet die Teilnahme an insgesamt 18 Vorträgen zu einem Gesamtpreis von € 245\,– inkl. 20% USt (dies entspricht etwa € 13 pro Vortrag). \nDas komplette Kursprogramm 2026 dieser Vortragsreihe: finden Sie hier \nDie Teilnehmerzahl ist begrenzt und eine Anmeldung daher unbedingt erforderlich! Die Teilnahme ist nur nach bestätigter Anmeldung und Entrichtung der Kursgebühr möglich. \n 
URL:https://www.zvhausundeigentum.at/veranstaltung/kursreihe-2025-spezialkurs-fuer-eigenverwaltung/
CATEGORIES:Kurs 2026 - Kurs 2025 - Spezialwissen für Eigenverwaltung
ATTACH;FMTTYPE=image/jpeg:https://www.zvhausundeigentum.at/wp-content/uploads/2023/08/Sitzungssaal-leer-scaled.jpg
END:VEVENT
BEGIN:VEVENT
DTSTART;TZID=Europe/Berlin:20260610T180000
DTEND;TZID=Europe/Berlin:20260610T190000
DTSTAMP:20260421T121702
CREATED:20251124T123140Z
LAST-MODIFIED:20251124T123303Z
UID:4057-1781114400-1781118000@www.zvhausundeigentum.at
SUMMARY:Kurs 2026 - "Der Eigentümer und sein Verwalter"
DESCRIPTION:Vortragender: RA Dr. KNITTL Carl\nThema: „Der Eigentümer und sein Verwalter“ \nDie Vortragsreihe „Kurs 2026– Spezialwissen für die Eigenverwaltung“ kann nur als Ganzes gebucht werden. Eine Buchung beinhaltet  die Teilnahme an insgesamt 18 Vorträgen  zu einem Gesamtpreis von € 245\,–inkl. 20% USt (dies entspricht etwa € 13 pro Vortrag).\nDie Teilnehmerzahl ist begrenzt und eine Anmeldung daher unbedingt erforderlich! Die Teilnahme ist nur nach bestätigter Anmeldung und Entrichtung der Kursgebühr möglich.
URL:https://www.zvhausundeigentum.at/veranstaltung/der-eigentuemer-und-sein-verwalter/
CATEGORIES:Kurs 2026 - Kurs 2025 - Spezialwissen für Eigenverwaltung
ATTACH;FMTTYPE=image/jpeg:https://www.zvhausundeigentum.at/wp-content/uploads/2020/04/zv_haus_eigentum_knittl_carl.jpg
END:VEVENT
BEGIN:VEVENT
DTSTART;TZID=Europe/Berlin:20260624T180000
DTEND;TZID=Europe/Berlin:20260624T190000
DTSTAMP:20260421T121702
CREATED:20251110T120805Z
LAST-MODIFIED:20251110T121006Z
UID:4045-1782324000-1782327600@www.zvhausundeigentum.at
SUMMARY:Kurs 2026 - Aktuelle Judikatur WEG bzw. MRG
DESCRIPTION:Vortragender: RA Dr. Obermayer Christoph\nThema: Aktuelle Judikatur WEG bzw. MRG\n \nDie Vortragsreihe „Kurs 2026– Spezialwissen für die Eigenverwaltung“ kann nur als Ganzes gebucht werden. Eine Buchung beinhaltet  die Teilnahme an insgesamt 18 Vorträgen  zu einem Gesamtpreis von € 245\,–inkl. 20% USt (dies entspricht etwa € 13 pro Vortrag).\nDie Teilnehmerzahl ist begrenzt und eine Anmeldung daher unbedingt erforderlich! Die Teilnahme ist nur nach bestätigter Anmeldung und Entrichtung der Kursgebühr möglich.
URL:https://www.zvhausundeigentum.at/veranstaltung/kurs-2026-aktuelle-judiakatur-weg-bzw-mrg/
CATEGORIES:Kurs 2026 - Kurs 2025 - Spezialwissen für Eigenverwaltung
ATTACH;FMTTYPE=image/jpeg:https://www.zvhausundeigentum.at/wp-content/uploads/2020/04/zv_haus_eigentum_obermayer_christoph.jpg
END:VEVENT
END:VCALENDAR